BEGIN:VCALENDAR
VERSION:2.0
PRODID:-//Academia Română Filiala Iași - ECPv6.15.20//NONSGML v1.0//EN
CALSCALE:GREGORIAN
METHOD:PUBLISH
X-ORIGINAL-URL:https://acadiasi.org
X-WR-CALDESC:Evenimente pentru Academia Română Filiala Iași
REFRESH-INTERVAL;VALUE=DURATION:PT1H
X-Robots-Tag:noindex
X-PUBLISHED-TTL:PT1H
BEGIN:VTIMEZONE
TZID:Europe/Bucharest
BEGIN:DAYLIGHT
TZOFFSETFROM:+0200
TZOFFSETTO:+0300
TZNAME:EEST
DTSTART:20240331T010000
END:DAYLIGHT
BEGIN:STANDARD
TZOFFSETFROM:+0300
TZOFFSETTO:+0200
TZNAME:EET
DTSTART:20241027T010000
END:STANDARD
BEGIN:DAYLIGHT
TZOFFSETFROM:+0200
TZOFFSETTO:+0300
TZNAME:EEST
DTSTART:20250330T010000
END:DAYLIGHT
BEGIN:STANDARD
TZOFFSETFROM:+0300
TZOFFSETTO:+0200
TZNAME:EET
DTSTART:20251026T010000
END:STANDARD
BEGIN:DAYLIGHT
TZOFFSETFROM:+0200
TZOFFSETTO:+0300
TZNAME:EEST
DTSTART:20260329T010000
END:DAYLIGHT
BEGIN:STANDARD
TZOFFSETFROM:+0300
TZOFFSETTO:+0200
TZNAME:EET
DTSTART:20261025T010000
END:STANDARD
END:VTIMEZONE
BEGIN:VEVENT
DTSTART;TZID=Europe/Bucharest:20251210T100000
DTEND;TZID=Europe/Bucharest:20251210T140000
DTSTAMP:20260420T185627
CREATED:20251209T111737Z
LAST-MODIFIED:20251209T111737Z
UID:17161-1765360800-1765375200@acadiasi.org
SUMMARY:Criza dreptului. Reglementare\, justiție și drepturile omului
DESCRIPTION:Dinamica societății demonstrează\, de multe ori\, o inadecvare a domeniul juridic la realitatea din ce în ce mai complexă. Fie că este vorba de lipsa reglementării unor relații sociale sau de nerespectarea dreptului obiectiv\, care impune o reacție eficientă din partea justiției\, finalitatea pacificării conflictelor pare din ce în ce mai greu de atins. Or\, în lipsa acesteia\, dreptul își pierde sensul\, drepturile omului fiind cea mai importantă valoare afectată. Conferința își propune să reunească specialiști pentru a dezbate asupra sistemului de drept\, urmărind\, în mod deosebit\, raportul reglementare – justiție – drepturile omului. \nDate de conectare online Google Meet\, link https://meet.google.com/obp-jmcx-zhm \nCriza dreptului. Reglementare\, justiție și drepturile omului \n \n 
URL:https://acadiasi.org/event/criza-dreptului-reglementare-justitie-si-drepturile-omului-2/
LOCATION:hibrid – Institutul de Cercetări Economice și Sociale „Gheorghe Zane”\, str. Codrescu\, nr. 2\, Iași\, Iași\, 700481\, România
ATTACH;FMTTYPE=image/png:https://acadiasi.org/wp-content/uploads/2025/12/Ev-ICES.png
END:VEVENT
END:VCALENDAR